BEGIN:VCALENDAR
VERSION:2.0
PRODID:-//Freiwillige Feuerwehr Lafnitz - ECPv6.15.20//NONSGML v1.0//EN
CALSCALE:GREGORIAN
METHOD:PUBLISH
X-WR-CALNAME:Freiwillige Feuerwehr Lafnitz
X-ORIGINAL-URL:https://www.fflafnitz.at
X-WR-CALDESC:Veranstaltungen für Freiwillige Feuerwehr Lafnitz
REFRESH-INTERVAL;VALUE=DURATION:PT1H
X-Robots-Tag:noindex
X-PUBLISHED-TTL:PT1H
BEGIN:VTIMEZONE
TZID:Europe/Paris
BEGIN:DAYLIGHT
TZOFFSETFROM:+0100
TZOFFSETTO:+0200
TZNAME:CEST
DTSTART:20230326T010000
END:DAYLIGHT
BEGIN:STANDARD
TZOFFSETFROM:+0200
TZOFFSETTO:+0100
TZNAME:CET
DTSTART:20231029T010000
END:STANDARD
BEGIN:DAYLIGHT
TZOFFSETFROM:+0100
TZOFFSETTO:+0200
TZNAME:CEST
DTSTART:20240331T010000
END:DAYLIGHT
BEGIN:STANDARD
TZOFFSETFROM:+0200
TZOFFSETTO:+0100
TZNAME:CET
DTSTART:20241027T010000
END:STANDARD
BEGIN:DAYLIGHT
TZOFFSETFROM:+0100
TZOFFSETTO:+0200
TZNAME:CEST
DTSTART:20250330T010000
END:DAYLIGHT
BEGIN:STANDARD
TZOFFSETFROM:+0200
TZOFFSETTO:+0100
TZNAME:CET
DTSTART:20251026T010000
END:STANDARD
END:VTIMEZONE
BEGIN:VEVENT
DTSTART;TZID=Europe/Paris:20240113T190000
DTEND;TZID=Europe/Paris:20240114T030000
DTSTAMP:20260423T145855
CREATED:20240101T150722Z
LAST-MODIFIED:20240101T150835Z
UID:16996-1705172400-1705201200@www.fflafnitz.at
SUMMARY:Feuerwehrball 2024
DESCRIPTION:Am 13. Jänner 2024 findet im GZL Lafnitz der Feuerwehrball der Feuerwehren Rohrbach a. d. Lafnitz und Lafnitz statt. \nWir freuen uns auf zahlreiche Besucherinnen und Besucher.
URL:https://www.fflafnitz.at/event/feuerwehrball-2024/
LOCATION:Gemeinezentrum Lafnitz (GZL)\, Lafnitz 31\, Lafnitz\, 8233\, Österreich
ATTACH;FMTTYPE=image/jpeg:https://www.fflafnitz.at/wp-content/uploads/2024/01/Feuerwehrball-FF-Lafnitz-2024-01-13-scaled.jpg
END:VEVENT
BEGIN:VEVENT
DTSTART;TZID=Europe/Paris:20240131T080000
DTEND;TZID=Europe/Paris:20240131T170000
DTSTAMP:20260423T145855
CREATED:20240131T193311Z
LAST-MODIFIED:20240131T193311Z
UID:17293-1706688000-1706720400@www.fflafnitz.at
SUMMARY:Tag der offenen Tür
DESCRIPTION:Am 31.08 lädt die FF Lafnitz zum Tag der offenen Tür. Nutzen Sie die Gelegenheit um das Feuerwehrhaus\, die Fahrzeuge und Geräte sowie die Kameradinnen und Kameraden der Feuerwehr Lafnitz kennenzulernen. Ein abwechslungsreiches Programm stellt die Aufgaben und Tätigkeiten der Feuerwehr vor. Eine Schauübung rundet das Programm ab. 
URL:https://www.fflafnitz.at/event/tag-der-offenen-tuer-2/
END:VEVENT
END:VCALENDAR